BEGIN:VCALENDAR
VERSION:2.0
PRODID:-//Sirius Community - ECPv6.15.20//NONSGML v1.0//EN
CALSCALE:GREGORIAN
METHOD:PUBLISH
X-WR-CALNAME:Sirius Community
X-ORIGINAL-URL:https://siriuscommunity.org
X-WR-CALDESC:Events for Sirius Community
REFRESH-INTERVAL;VALUE=DURATION:PT1H
X-Robots-Tag:noindex
X-PUBLISHED-TTL:PT1H
BEGIN:VTIMEZONE
TZID:America/New_York
BEGIN:DAYLIGHT
TZOFFSETFROM:-0500
TZOFFSETTO:-0400
TZNAME:EDT
DTSTART:20230312T070000
END:DAYLIGHT
BEGIN:STANDARD
TZOFFSETFROM:-0400
TZOFFSETTO:-0500
TZNAME:EST
DTSTART:20231105T060000
END:STANDARD
BEGIN:DAYLIGHT
TZOFFSETFROM:-0500
TZOFFSETTO:-0400
TZNAME:EDT
DTSTART:20240310T070000
END:DAYLIGHT
BEGIN:STANDARD
TZOFFSETFROM:-0400
TZOFFSETTO:-0500
TZNAME:EST
DTSTART:20241103T060000
END:STANDARD
BEGIN:DAYLIGHT
TZOFFSETFROM:-0500
TZOFFSETTO:-0400
TZNAME:EDT
DTSTART:20250309T070000
END:DAYLIGHT
BEGIN:STANDARD
TZOFFSETFROM:-0400
TZOFFSETTO:-0500
TZNAME:EST
DTSTART:20251102T060000
END:STANDARD
END:VTIMEZONE
BEGIN:VEVENT
DTSTART;TZID=America/New_York:20241201T130000
DTEND;TZID=America/New_York:20241201T153000
DTSTAMP:20260424T121439
CREATED:20240917T010229Z
LAST-MODIFIED:20240917T010714Z
UID:2968-1733058000-1733067000@siriuscommunity.org
SUMMARY:Compassionate Communication (Class 4 of 6)
DESCRIPTION:Over six weekly classes\, we’ll learn tools to create more understanding\, connection\, and empathy in charged emotional situations. The course is inspired by Marshall Rosenberg’s Non-violent Communication\, or “NVC”. \nCompassionate communication invites us to explore the underlying needs behind the feelings that come up in charged conflicts. Using an “NVC” approach we’re called to listen with curiosity and empathy to ourselves and to each other as a basis for engaging in challenging conversations head-on. NVC has become a powerful support for our community’s conflict resolution process. It’s not perfect\, or a cure-all\, but it gives us a language of the heart that can foster the connection needed to work through issues. We look forward to connecting with you all and exploring these concepts and practices! \nRegistration \nCourse Details
URL:https://siriuscommunity.org/event/compassionate-communication/
LOCATION:Massachusetts
ATTACH;FMTTYPE=image/jpeg:https://siriuscommunity.org/wp-content/uploads/2024/09/99B89760-DC6E-474C-ABC9-3ABEB0CBF87D_1_201_a-1.jpeg
END:VEVENT
END:VCALENDAR