BEGIN:VCALENDAR
VERSION:2.0
PRODID:-//Sirius Community - ECPv6.15.20//NONSGML v1.0//EN
CALSCALE:GREGORIAN
METHOD:PUBLISH
X-WR-CALNAME:Sirius Community
X-ORIGINAL-URL:https://siriuscommunity.org
X-WR-CALDESC:Events for Sirius Community
REFRESH-INTERVAL;VALUE=DURATION:PT1H
X-Robots-Tag:noindex
X-PUBLISHED-TTL:PT1H
BEGIN:VTIMEZONE
TZID:America/New_York
BEGIN:DAYLIGHT
TZOFFSETFROM:-0500
TZOFFSETTO:-0400
TZNAME:EDT
DTSTART:20240310T070000
END:DAYLIGHT
BEGIN:STANDARD
TZOFFSETFROM:-0400
TZOFFSETTO:-0500
TZNAME:EST
DTSTART:20241103T060000
END:STANDARD
BEGIN:DAYLIGHT
TZOFFSETFROM:-0500
TZOFFSETTO:-0400
TZNAME:EDT
DTSTART:20250309T070000
END:DAYLIGHT
BEGIN:STANDARD
TZOFFSETFROM:-0400
TZOFFSETTO:-0500
TZNAME:EST
DTSTART:20251102T060000
END:STANDARD
BEGIN:DAYLIGHT
TZOFFSETFROM:-0500
TZOFFSETTO:-0400
TZNAME:EDT
DTSTART:20260308T070000
END:DAYLIGHT
BEGIN:STANDARD
TZOFFSETFROM:-0400
TZOFFSETTO:-0500
TZNAME:EST
DTSTART:20261101T060000
END:STANDARD
END:VTIMEZONE
BEGIN:VEVENT
DTSTART;TZID=America/New_York:20250531T160000
DTEND;TZID=America/New_York:20250531T230000
DTSTAMP:20260424T024840
CREATED:20250516T001142Z
LAST-MODIFIED:20250516T005236Z
UID:3104-1748707200-1748732400@siriuscommunity.org
SUMMARY:LAST DAY OF MAY DANCE
DESCRIPTION:  \nOn Saturday\, May 31st starting at 4:00 PM Sirius is hosting an all-inclusive event complete with our wood-fired sauna\, shared potluck dinner at 6:00 PM and healing movement through live music and dancing!
URL:https://siriuscommunity.org/event/last-day-of-may-dance/
LOCATION:72 Baker Road Shutesbury\, MA 01072\, MA\, United States
ATTACH;FMTTYPE=image/jpeg:https://siriuscommunity.org/wp-content/uploads/2025/05/IMG_4588-scaled.jpg
END:VEVENT
END:VCALENDAR