BEGIN:VCALENDAR
VERSION:2.0
PRODID:-//Sirius Community - ECPv6.15.20//NONSGML v1.0//EN
CALSCALE:GREGORIAN
METHOD:PUBLISH
X-ORIGINAL-URL:https://siriuscommunity.org
X-WR-CALDESC:Events for Sirius Community
REFRESH-INTERVAL;VALUE=DURATION:PT1H
X-Robots-Tag:noindex
X-PUBLISHED-TTL:PT1H
BEGIN:VTIMEZONE
TZID:America/New_York
BEGIN:DAYLIGHT
TZOFFSETFROM:-0500
TZOFFSETTO:-0400
TZNAME:EDT
DTSTART:20240310T070000
END:DAYLIGHT
BEGIN:STANDARD
TZOFFSETFROM:-0400
TZOFFSETTO:-0500
TZNAME:EST
DTSTART:20241103T060000
END:STANDARD
BEGIN:DAYLIGHT
TZOFFSETFROM:-0500
TZOFFSETTO:-0400
TZNAME:EDT
DTSTART:20250309T070000
END:DAYLIGHT
BEGIN:STANDARD
TZOFFSETFROM:-0400
TZOFFSETTO:-0500
TZNAME:EST
DTSTART:20251102T060000
END:STANDARD
BEGIN:DAYLIGHT
TZOFFSETFROM:-0500
TZOFFSETTO:-0400
TZNAME:EDT
DTSTART:20260308T070000
END:DAYLIGHT
BEGIN:STANDARD
TZOFFSETFROM:-0400
TZOFFSETTO:-0500
TZNAME:EST
DTSTART:20261101T060000
END:STANDARD
END:VTIMEZONE
BEGIN:VEVENT
DTSTART;TZID=America/New_York:20250627T180000
DTEND;TZID=America/New_York:20250627T230000
DTSTAMP:20260424T011506
CREATED:20250618T171631Z
LAST-MODIFIED:20250618T194407Z
UID:3126-1751047200-1751065200@siriuscommunity.org
SUMMARY:Welcome Summer Dance
DESCRIPTION:Join Sirius Ecovillage On June 27th for a full-body activation with our wood-fired sauna\, deep connection over a shared potluck dinner and healing movement through music and dance! \n♨️4:00pm (and onward) – Sauna – Enjoy our famous wood-fired sauna throughout the evening (Clothing optional\, please bring your own towel!) \n🍨 6:00pm – Community Potluck Dinner – Bring a healthy vegetarian dish to share (or $10). Organic and local food is encouraged \n8:00pm – Drum circle – We have a limited amount of drums\, if you have a drum please bring it along. \n9:00pm -11:00pm DJ set with DJ DOM \n🛏Rustic Ecovillage rooms are available for your stay:\n$71/night (Twin bed)\n$99/night (Queen bed)\nEmail 📩 guest.services@siriuscommunity.org
URL:https://siriuscommunity.org/event/welcome-summer-dance/
LOCATION:Sirius Community Center\, 18 Community Center Drive\, Shutesbury\, MA\, 01072
ATTACH;FMTTYPE=image/jpeg:https://siriuscommunity.org/wp-content/uploads/2025/06/unnamed.jpg
END:VEVENT
END:VCALENDAR