BEGIN:VCALENDAR
VERSION:2.0
PRODID:-//Sirius Community - ECPv6.15.20//NONSGML v1.0//EN
CALSCALE:GREGORIAN
METHOD:PUBLISH
X-WR-CALNAME:Sirius Community
X-ORIGINAL-URL:https://siriuscommunity.org
X-WR-CALDESC:Events for Sirius Community
REFRESH-INTERVAL;VALUE=DURATION:PT1H
X-Robots-Tag:noindex
X-PUBLISHED-TTL:PT1H
BEGIN:VTIMEZONE
TZID:America/New_York
BEGIN:DAYLIGHT
TZOFFSETFROM:-0500
TZOFFSETTO:-0400
TZNAME:EDT
DTSTART:20240310T070000
END:DAYLIGHT
BEGIN:STANDARD
TZOFFSETFROM:-0400
TZOFFSETTO:-0500
TZNAME:EST
DTSTART:20241103T060000
END:STANDARD
BEGIN:DAYLIGHT
TZOFFSETFROM:-0500
TZOFFSETTO:-0400
TZNAME:EDT
DTSTART:20250309T070000
END:DAYLIGHT
BEGIN:STANDARD
TZOFFSETFROM:-0400
TZOFFSETTO:-0500
TZNAME:EST
DTSTART:20251102T060000
END:STANDARD
BEGIN:DAYLIGHT
TZOFFSETFROM:-0500
TZOFFSETTO:-0400
TZNAME:EDT
DTSTART:20260308T070000
END:DAYLIGHT
BEGIN:STANDARD
TZOFFSETFROM:-0400
TZOFFSETTO:-0500
TZNAME:EST
DTSTART:20261101T060000
END:STANDARD
END:VTIMEZONE
BEGIN:VEVENT
DTSTART;TZID=America/New_York:20250628T180000
DTEND;TZID=America/New_York:20250628T210000
DTSTAMP:20260424T011408
CREATED:20250618T194817Z
LAST-MODIFIED:20250618T195612Z
UID:3129-1751133600-1751144400@siriuscommunity.org
SUMMARY:Introduction to Emotional Healing Processes.
DESCRIPTION:  \n \n  \n  \n  \n  \n  \n  \n  \n  \n  \n\n  \nThere is a difference between feelings\, which originate in the present and are for handling things\, and emotions\, which are unhealed wounds that originate from the past. This workshop is about learning how to be in touch with your feelings without getting stuck in emotional reactivity. There is a difference! \nWe will experientially go over the Four Feelings Cycle\, how to get out of stuck emotional patterns\, how to extract wisdom from your feelings\, and how to heal emotional wounds. \nMore specifically\, we’ll cover the distinctions between: \n\nFeelings (origin is in the present) vs Emotions (origin is in a past\, unhealed wound\nConscious and unconscious uses of feeling\nWhat an Emotional Healing Process is\, how to trace emotional reactivity to the wound it is rooted in\, and how to make new decisions about that wound\n\nWe will practice: \n\nFeeling our feelings\nDistinguishing between our feelings and emotional reactivity\nHolding vacuum spaces for others so they can express higher levels of feeling\nHow to be with and let emotional energy move in our bodies\nTreating our feelings not as second-class citizens to our minds\, but as valuable sources of information and energy for our lives\n\n“Give someone a healing process and they’ll be okay for a day. Teach people how to hold emotional healing processes for each other\, and they’ll be okay for a lifetime.” – someone\, once. \n6-9pm @ Sirius Community \n$25\, no one turned away for lack of funds \n\nBios: \n\n\n\nDaway is an intimacy negotiator and mythic storyteller. His favorite hobby is going into “liquid state\,” the groundlessness that happens when old stories about the world and who he can be\, dissolve. He loves being with people committed to the hard work of ego transformation and creating ecstatic communities with those kinds of folks. \nMeredith is a community researcher and former school teacher who cares deeply about helping people become more alive and have better\, more connected\, and more intimate relationships with each other. She is a somatic practitioner who works with stuck emotions in the body. \n\nhttp://www.dawaychouren.com \nhttp://www.meredithwitt.com \nhttps://www.facebook.com/events/621715354214182/ \nRegistration Link Here > https://forms.gle/gspYJ2BvcAPBz6s28
URL:https://siriuscommunity.org/event/introduction-to-emotional-healing-processes/
LOCATION:Massachusetts
END:VEVENT
END:VCALENDAR