BEGIN:VCALENDAR
VERSION:2.0
PRODID:-//Sirius Community - ECPv6.15.20//NONSGML v1.0//EN
CALSCALE:GREGORIAN
METHOD:PUBLISH
X-WR-CALNAME:Sirius Community
X-ORIGINAL-URL:https://siriuscommunity.org
X-WR-CALDESC:Events for Sirius Community
REFRESH-INTERVAL;VALUE=DURATION:PT1H
X-Robots-Tag:noindex
X-PUBLISHED-TTL:PT1H
BEGIN:VTIMEZONE
TZID:America/New_York
BEGIN:DAYLIGHT
TZOFFSETFROM:-0500
TZOFFSETTO:-0400
TZNAME:EDT
DTSTART:20240310T070000
END:DAYLIGHT
BEGIN:STANDARD
TZOFFSETFROM:-0400
TZOFFSETTO:-0500
TZNAME:EST
DTSTART:20241103T060000
END:STANDARD
BEGIN:DAYLIGHT
TZOFFSETFROM:-0500
TZOFFSETTO:-0400
TZNAME:EDT
DTSTART:20250309T070000
END:DAYLIGHT
BEGIN:STANDARD
TZOFFSETFROM:-0400
TZOFFSETTO:-0500
TZNAME:EST
DTSTART:20251102T060000
END:STANDARD
BEGIN:DAYLIGHT
TZOFFSETFROM:-0500
TZOFFSETTO:-0400
TZNAME:EDT
DTSTART:20260308T070000
END:DAYLIGHT
BEGIN:STANDARD
TZOFFSETFROM:-0400
TZOFFSETTO:-0500
TZNAME:EST
DTSTART:20261101T060000
END:STANDARD
END:VTIMEZONE
BEGIN:VEVENT
DTSTART;TZID=America/New_York:20250704T120000
DTEND;TZID=America/New_York:20250704T170000
DTSTAMP:20260423T234049
CREATED:20250702T193603Z
LAST-MODIFIED:20250702T193715Z
UID:3138-1751630400-1751648400@siriuscommunity.org
SUMMARY:Interdependence Day
DESCRIPTION:Join us in the field this Friday to celebrate our Inter-dependence! Bring something to be put on the grill\, play some volleyball\, trade goods on the potlatch blanket\, do some crafting\, bring a song\, poem\, or dance\, read our interdependence day decree as is Sirius tradition! Bring a picnic blanket\, chair\, plate/silverware\, and be ready for a good time! Friday July 4th from 12-5pm on the Sirius Field
URL:https://siriuscommunity.org/event/interdependence-day/
LOCATION:Massachusetts
ATTACH;FMTTYPE=image/jpeg:https://siriuscommunity.org/wp-content/uploads/2025/07/Interdependence-Day-Flier-Draft-scaled.jpg
END:VEVENT
END:VCALENDAR