BEGIN:VCALENDAR
VERSION:2.0
PRODID:-//Sirius Community - ECPv6.15.20//NONSGML v1.0//EN
CALSCALE:GREGORIAN
METHOD:PUBLISH
X-ORIGINAL-URL:https://siriuscommunity.org
X-WR-CALDESC:Events for Sirius Community
REFRESH-INTERVAL;VALUE=DURATION:PT1H
X-Robots-Tag:noindex
X-PUBLISHED-TTL:PT1H
BEGIN:VTIMEZONE
TZID:America/New_York
BEGIN:DAYLIGHT
TZOFFSETFROM:-0500
TZOFFSETTO:-0400
TZNAME:EDT
DTSTART:20240310T070000
END:DAYLIGHT
BEGIN:STANDARD
TZOFFSETFROM:-0400
TZOFFSETTO:-0500
TZNAME:EST
DTSTART:20241103T060000
END:STANDARD
BEGIN:DAYLIGHT
TZOFFSETFROM:-0500
TZOFFSETTO:-0400
TZNAME:EDT
DTSTART:20250309T070000
END:DAYLIGHT
BEGIN:STANDARD
TZOFFSETFROM:-0400
TZOFFSETTO:-0500
TZNAME:EST
DTSTART:20251102T060000
END:STANDARD
BEGIN:DAYLIGHT
TZOFFSETFROM:-0500
TZOFFSETTO:-0400
TZNAME:EDT
DTSTART:20260308T070000
END:DAYLIGHT
BEGIN:STANDARD
TZOFFSETFROM:-0400
TZOFFSETTO:-0500
TZNAME:EST
DTSTART:20261101T060000
END:STANDARD
END:VTIMEZONE
BEGIN:VEVENT
DTSTART;TZID=America/New_York:20250711T183000
DTEND;TZID=America/New_York:20250711T193000
DTSTAMP:20260423T234222
CREATED:20250709T163744Z
LAST-MODIFIED:20250709T191541Z
UID:3150-1752258600-1752262200@siriuscommunity.org
SUMMARY:Sound Healing
DESCRIPTION:Join us at Sirius Community for a sound healing lead by Nicole Ward (https://www.prismlighthealing.com) & Leo Ryan. \n  \n\nWhy sound?\n\n\nHave you ever witnessed live music and felt the vibrations of a bass or drum that was so low that it vibrated your body? Have you ever heard the piercing clarity of a bell that instantly brought your awareness into the moment? Have you ever been soothed into a trance through the gentle ambience of a repetitive sound? \nSometimes these sounds can be jarring and annoying\, but they can also be therapeutic when used intentionally for the purpose of healing. For thousands of years\, every human culture has evolved the use of sound to facilitate physical\, emotional\, mental\, and spiritual release and cohesion. Journeying with sound is perhaps our oldest and ever-relevant method of medicine. \nIntroducing specific fields of resonance through healing sounds to the body creates an immediate affect. Through the process of entrainment\, the body is encouraged to energetically reorganize into a more coherent pattern\, which shows up in the physical as the relief of blockages and activation of sluggish cells. The vibrational conversation that occurs between the body and the instruments is a deep one that spans beyond the conscious mind. It is through this conversation that the body’s natural systems are inspired to find new and refreshed pathways of health\, vitality\, creativity\, and conscious choice. \n​ \nMany people report experiences of spontaneous insight\, increased energy\, clarity of mind\, sustainable focus\, calm wellbeing\, and attunement to extrasensory perception when working with sound in this way.
URL:https://siriuscommunity.org/event/sound-healing/
LOCATION:Sirius Community Center\, 18 Community Center Drive\, Shutesbury\, MA\, 01072
ATTACH;FMTTYPE=image/png:https://siriuscommunity.org/wp-content/uploads/2025/07/Sirius-Sound-Healing-07112025-Leo-Ryan.png
ORGANIZER;CN="Sirius Community":MAILTO:eric.giordano@gmail.com
END:VEVENT
END:VCALENDAR