BEGIN:VCALENDAR
VERSION:2.0
PRODID:-//Sirius Community - ECPv6.15.20//NONSGML v1.0//EN
CALSCALE:GREGORIAN
METHOD:PUBLISH
X-WR-CALNAME:Sirius Community
X-ORIGINAL-URL:https://siriuscommunity.org
X-WR-CALDESC:Events for Sirius Community
REFRESH-INTERVAL;VALUE=DURATION:PT1H
X-Robots-Tag:noindex
X-PUBLISHED-TTL:PT1H
BEGIN:VTIMEZONE
TZID:America/New_York
BEGIN:DAYLIGHT
TZOFFSETFROM:-0500
TZOFFSETTO:-0400
TZNAME:EDT
DTSTART:20240310T070000
END:DAYLIGHT
BEGIN:STANDARD
TZOFFSETFROM:-0400
TZOFFSETTO:-0500
TZNAME:EST
DTSTART:20241103T060000
END:STANDARD
BEGIN:DAYLIGHT
TZOFFSETFROM:-0500
TZOFFSETTO:-0400
TZNAME:EDT
DTSTART:20250309T070000
END:DAYLIGHT
BEGIN:STANDARD
TZOFFSETFROM:-0400
TZOFFSETTO:-0500
TZNAME:EST
DTSTART:20251102T060000
END:STANDARD
BEGIN:DAYLIGHT
TZOFFSETFROM:-0500
TZOFFSETTO:-0400
TZNAME:EDT
DTSTART:20260308T070000
END:DAYLIGHT
BEGIN:STANDARD
TZOFFSETFROM:-0400
TZOFFSETTO:-0500
TZNAME:EST
DTSTART:20261101T060000
END:STANDARD
END:VTIMEZONE
BEGIN:VEVENT
DTSTART;TZID=America/New_York:20250815T170000
DTEND;TZID=America/New_York:20250819T120000
DTSTAMP:20260423T221235
CREATED:20250709T191224Z
LAST-MODIFIED:20250709T191224Z
UID:3167-1755277200-1755604800@siriuscommunity.org
SUMMARY:Woman Soul
DESCRIPTION:Woman Soul is a healing retreat for women. It is a community where the mystical is honored\, evoked\, and celebrated in new ways and with a down-to-earth style for over 35 years. \nThis is a private event. Registration is closed.
URL:https://siriuscommunity.org/event/woman-soul/
LOCATION:Sirius Community Center\, 18 Community Center Drive\, Shutesbury\, MA\, 01072
ATTACH;FMTTYPE=image/jpeg:https://siriuscommunity.org/wp-content/uploads/2024/05/440970764_10233601352564004_1222400245117781696_n.jpg
END:VEVENT
END:VCALENDAR