BEGIN:VCALENDAR
VERSION:2.0
PRODID:-//Sirius Community - ECPv6.15.20//NONSGML v1.0//EN
CALSCALE:GREGORIAN
METHOD:PUBLISH
X-WR-CALNAME:Sirius Community
X-ORIGINAL-URL:https://siriuscommunity.org
X-WR-CALDESC:Events for Sirius Community
REFRESH-INTERVAL;VALUE=DURATION:PT1H
X-Robots-Tag:noindex
X-PUBLISHED-TTL:PT1H
BEGIN:VTIMEZONE
TZID:America/New_York
BEGIN:DAYLIGHT
TZOFFSETFROM:-0500
TZOFFSETTO:-0400
TZNAME:EDT
DTSTART:20250309T070000
END:DAYLIGHT
BEGIN:STANDARD
TZOFFSETFROM:-0400
TZOFFSETTO:-0500
TZNAME:EST
DTSTART:20251102T060000
END:STANDARD
BEGIN:DAYLIGHT
TZOFFSETFROM:-0500
TZOFFSETTO:-0400
TZNAME:EDT
DTSTART:20260308T070000
END:DAYLIGHT
BEGIN:STANDARD
TZOFFSETFROM:-0400
TZOFFSETTO:-0500
TZNAME:EST
DTSTART:20261101T060000
END:STANDARD
BEGIN:DAYLIGHT
TZOFFSETFROM:-0500
TZOFFSETTO:-0400
TZNAME:EDT
DTSTART:20270314T070000
END:DAYLIGHT
BEGIN:STANDARD
TZOFFSETFROM:-0400
TZOFFSETTO:-0500
TZNAME:EST
DTSTART:20271107T060000
END:STANDARD
END:VTIMEZONE
BEGIN:VEVENT
DTSTART;TZID=America/New_York:20260422T073000
DTEND;TZID=America/New_York:20260422T210000
DTSTAMP:20260423T103603
CREATED:20260402T221124Z
LAST-MODIFIED:20260409T202927Z
UID:3366-1776843000-1776891600@siriuscommunity.org
SUMMARY:Circle Singing
DESCRIPTION:Join us on Wednesday\, April 22\, from 7:30-9:00 pm to experience and learn circle singing\, hosted and led by Eric Giordano.\n\n\nCircle singing is an improvisational vocal technique to create music together from scratch. You will leave this event knowing how circle singing works\, which we hope can empower everyone to share and create music with others.\n\n\n\nIf you’ve been looking for a musical event to inspire your creativity while connecting with others\, then this is for you. We are looking forward to seeing you there!\n\n\n\nDon’t hesitate to get in touch with eric.giordano@siriuscommunity.org if you have any questions about the event.
URL:https://siriuscommunity.org/event/circle-singing-2/
LOCATION:Massachusetts
ATTACH;FMTTYPE=image/png:https://siriuscommunity.org/wp-content/uploads/2026/04/Circle-Singing-MonthlyApril9.png
END:VEVENT
END:VCALENDAR