BEGIN:VCALENDAR
VERSION:2.0
PRODID:-//Sirius Community - ECPv6.15.20//NONSGML v1.0//EN
CALSCALE:GREGORIAN
METHOD:PUBLISH
X-ORIGINAL-URL:https://siriuscommunity.org
X-WR-CALDESC:Events for Sirius Community
REFRESH-INTERVAL;VALUE=DURATION:PT1H
X-Robots-Tag:noindex
X-PUBLISHED-TTL:PT1H
BEGIN:VTIMEZONE
TZID:America/New_York
BEGIN:DAYLIGHT
TZOFFSETFROM:-0500
TZOFFSETTO:-0400
TZNAME:EDT
DTSTART:20240310T070000
END:DAYLIGHT
BEGIN:STANDARD
TZOFFSETFROM:-0400
TZOFFSETTO:-0500
TZNAME:EST
DTSTART:20241103T060000
END:STANDARD
BEGIN:DAYLIGHT
TZOFFSETFROM:-0500
TZOFFSETTO:-0400
TZNAME:EDT
DTSTART:20250309T070000
END:DAYLIGHT
BEGIN:STANDARD
TZOFFSETFROM:-0400
TZOFFSETTO:-0500
TZNAME:EST
DTSTART:20251102T060000
END:STANDARD
BEGIN:DAYLIGHT
TZOFFSETFROM:-0500
TZOFFSETTO:-0400
TZNAME:EDT
DTSTART:20260308T070000
END:DAYLIGHT
BEGIN:STANDARD
TZOFFSETFROM:-0400
TZOFFSETTO:-0500
TZNAME:EST
DTSTART:20261101T060000
END:STANDARD
BEGIN:DAYLIGHT
TZOFFSETFROM:-0500
TZOFFSETTO:-0400
TZNAME:EDT
DTSTART:20270314T070000
END:DAYLIGHT
BEGIN:STANDARD
TZOFFSETFROM:-0400
TZOFFSETTO:-0500
TZNAME:EST
DTSTART:20271107T060000
END:STANDARD
END:VTIMEZONE
BEGIN:VEVENT
DTSTART;TZID=America/New_York:20251112T120000
DTEND;TZID=America/New_York:20251116T120000
DTSTAMP:20260423T185836
CREATED:20250716T180637Z
LAST-MODIFIED:20250716T180637Z
UID:3190-1762948800-1763294400@siriuscommunity.org
SUMMARY:Insight Dialogue Teacher Training Retreat
DESCRIPTION:Insight Dialogue Retreat Teacher Training Retreat\nWith Gregory Kramer\n\n~\n\nThis four day retreat offers an opportunity for the Insight Dialogue Retreat Teacher Group to meet in-person and to receive guidance and training from the Insight Dialogue founding teacher\, Gregory Kramer.\n\n\n\n~\n\n\n\nWhat Is Insight Dialogue?\n\nInsight Dialogue is an interpersonal meditation practice based in the wisdom teachings of the Buddha. It has the same purposes and traditional roots as silent meditation: developing mindfulness\, compassion and liberating insight while investigating present moment experience. \nThe foundation of Insight Dialogue is a whole-life vision of the spiritual path: every moment of our lives is part of our path\, so our meditation should include both interpersonal and individual practices. The roots of suffering run deep; to dissolve them we fully meet all things—including other people—with alertness and care.
URL:https://siriuscommunity.org/event/insight-dialogue-teacher-training-retreat/
LOCATION:Sirius Community Center\, 18 Community Center Drive\, Shutesbury\, MA\, 01072
ATTACH;FMTTYPE=image/jpeg:https://siriuscommunity.org/wp-content/uploads/2025/07/IN.D.jpg
END:VEVENT
BEGIN:VEVENT
DTSTART;TZID=America/New_York:20251122T183000
DTEND;TZID=America/New_York:20251122T230000
DTSTAMP:20260423T185836
CREATED:20251102T171836Z
LAST-MODIFIED:20251102T171836Z
UID:3244-1763836200-1763852400@siriuscommunity.org
SUMMARY:The-Gathering-Salsa Dance
DESCRIPTION:This month\, we are having a salsa party! There will be a potluck from 6:30 pm-8 pm. We will begin the salsa rueda class at 8 pm. Salsa rueda is a Cuban-style salsa dance also known as “casino”. Celadry will be teaching until 9pm\, when the open dance will begin\, which will be Latin music all night. The sauna will be open and hot from 5pm-midnight. See you then!
URL:https://siriuscommunity.org/event/the-gathering-salsa-dance/
LOCATION:Massachusetts
ATTACH;FMTTYPE=image/jpeg:https://siriuscommunity.org/wp-content/uploads/2025/11/The-Gathering.jpg
END:VEVENT
BEGIN:VEVENT
DTSTART;TZID=America/New_York:20251129T150000
DTEND;TZID=America/New_York:20251129T230000
DTSTAMP:20260423T185836
CREATED:20251113T225609Z
LAST-MODIFIED:20251120T225058Z
UID:3247-1764428400-1764457200@siriuscommunity.org
SUMMARY:Sema
DESCRIPTION:We invite you to join us as we turn inward in reflection and devotion for a special Sema Ceremony\, an evening of prayer\, music\, whirling\, and remembrance. \nSema is a tradition rooted in Sufism that combines devotional chanting\, live music\, and whirling meditation. It was founded by the 13th-century mystic Rumi\, whose poetry speaks of love\, longing\, and union with the Divine. Through the spinning movement and the power of sound\, the ego dissolves\, and the tangible world fades away\, revealing the deep peace that has always been within. \nWhether you come to whirl\, chant\, or simply sit in stillness and listen\, you are welcome. No prior experience is needed — just an open heart. \n 
URL:https://siriuscommunity.org/event/sema/
LOCATION:Massachusetts
ATTACH;FMTTYPE=image/jpeg:https://siriuscommunity.org/wp-content/uploads/2025/11/nov-29-sema-1.jpg
END:VEVENT
BEGIN:VEVENT
DTSTART;TZID=America/New_York:20251206T163000
DTEND;TZID=America/New_York:20251206T174500
DTSTAMP:20260423T185836
CREATED:20251011T151307Z
LAST-MODIFIED:20251019T195958Z
UID:3234-1765038600-1765043100@siriuscommunity.org
SUMMARY:Sound Meditation
DESCRIPTION:Experience gongs\, crystal bowls and other resonant instruments as you rest in the awareness sound \n 
URL:https://siriuscommunity.org/event/sound-meditation/
LOCATION:Sirius Community Center\, 18 Community Center Drive\, Shutesbury\, MA\, 01072
ATTACH;FMTTYPE=application/pdf:https://siriuscommunity.org/wp-content/uploads/2025/10/Experience-gongs-crystal-bowls-and-other-resonant-instruments-as-you-rest-in-the-awareness-sound.pdf
END:VEVENT
BEGIN:VEVENT
DTSTART;TZID=America/New_York:20260103T050000
DTEND;TZID=America/New_York:20260103T233000
DTSTAMP:20260423T185837
CREATED:20251204T231733Z
LAST-MODIFIED:20251204T231733Z
UID:3289-1767416400-1767483000@siriuscommunity.org
SUMMARY:A sacred community celebration
DESCRIPTION:First Saturday – A sacred community celebrationSirius Ecovillage (72 Baker Rd\, Shutesbury\, MA)Saturday\, January 3rd | 5:00pm – 11:30pm (drop in anytime!)Join us at Sirius Ecovillage for full-body activation with our wood-fired sauna\, deep connection over a shared potluck dinner and ceremonial Cacao\, and healing movement through Live music and Soul Dance!What We’ll Be Exploring Together:5:00pm (and onward) – Sauna – Enjoy our famous wood-fired sauna throughout the evening (Clothing optional\, please bring your own towel!) 6:00pm – Community Potluck Dinner – Bring a healthy vegetarian dish to share (or contribute an extra $10 for a nourishing meal). Organic and local food is encouraged8:00pm – Cacao and Music Ceremony with Jason Cohen & Imani Elijah. Circle Up\, Find our Presence\, Open our Hearts\, and Sing & Dance Together with our delicious ethically-sourced ceremonial cacao\, brewed by Anton10:00pm – Soul flow and sound healing by DJ Dom$20-30 for the whole event. (Pay what you can – no one turned away for lack of funds). Clothing Swap – Bring clean\, gently used clothes to share\, and take home something you love!Venmo @Anton-Pavlov-1https://venmo.com/code?user_id=2083715169648640006…Creating a Safe & Supportive SpaceWe are committed to creating a safe\, welcoming space for dance and connection. Respect\, clear communication\, and mutual care are at the heart of our community.We’ll open our spaces with guidelines for requests\, responses\, and honoring boundaries. Our Emotional Support Team is here if you need anything.Let’s co-create a space where everyone feels honored\, respected\, and free to express themselves. We value your feedback and are always open to ideas and suggestions!We look forward to sharing this beautiful evening with you!—Join us the next day for:Hatha Yoga with Valico at 8:00amWaffle Brunch and Coffee at 9:30amCommunity tour at 11:00amRustic Ecovillage rooms are available for your stay:$71/night (Twin bed)$99/night (Queen bed)guest.services@siriuscommunity.org  \nSee less
URL:https://siriuscommunity.org/event/a-sacred-community-celebration/
LOCATION:Massachusetts
ATTACH;FMTTYPE=image/jpeg:https://siriuscommunity.org/wp-content/uploads/2025/12/A-sacred-community-celebration.jpg
END:VEVENT
BEGIN:VEVENT
DTSTART;TZID=America/New_York:20260131T180000
DTEND;TZID=America/New_York:20260131T230000
DTSTAMP:20260423T185837
CREATED:20260122T224636Z
LAST-MODIFIED:20260128T003007Z
UID:3303-1769882400-1769900400@siriuscommunity.org
SUMMARY:The Gathering at Sirius Community - January
DESCRIPTION:The Gathering at Sirius Community \n\nUpcoming event at an ecovillage near you! Come to Sirius Community on January 31st for an ecstatic dance.\nOur evening together will begin at 6:30pm with a potluck in the community center.\nOnce our bellies are full and the potluck is complete\, we will be guided by Eric\, a resident of Sirius\, on a circle singing journey. We will learn some beloved circle songs and how circling while singing works. You can incorporate this practice within songs you love.\nAfter spending time singing\, we will open up the dance floor with music curated by another Sirius resident\, DJ Dom.\nThroughout the night\, folks are welcome to use the wood-fired sauna next to the community center.\nAccommodations are available if you choose to stay the night here in the forest of Shutesbury. The next morning\, after the full moon\, we can begin February together with a yoga flow\, followed by a waffle brunch.\nYou won’t want to miss the first Gathering of the year\, and we are so excited to see you! 
URL:https://siriuscommunity.org/event/the-gathering-at-sirius-community-january/
LOCATION:Massachusetts
ATTACH;FMTTYPE=application/pdf:https://siriuscommunity.org/wp-content/uploads/2026/01/January-Sirius-Dance.pdf
END:VEVENT
BEGIN:VEVENT
DTSTART;TZID=America/New_York:20260307T183000
DTEND;TZID=America/New_York:20260307T230000
DTSTAMP:20260423T185837
CREATED:20260219T231426Z
LAST-MODIFIED:20260219T231807Z
UID:3322-1772908200-1772924400@siriuscommunity.org
SUMMARY:The Gathering
DESCRIPTION:Saturday March 7 \nJoin the Sirius Community for our monthly dance in the Octagon!\nEnjoy the spacious wood-fired sauna\, a\ncozy potluck dinner\, heart-centered\nAuthentic Relating led by Nathan Kessel\,\nand a World Psych Funk Vinyl set by \nour very own DJ Djbril \nOvernight accommodations available!\nReach out for pricing\nguest.services@siriuscommunity.org \nSunday Morning:\nYoga at 8 am with Valico\nWaffle Brunch served afterwards! \n 
URL:https://siriuscommunity.org/event/the-gathering/
LOCATION:Massachusetts
ATTACH;FMTTYPE=image/png:https://siriuscommunity.org/wp-content/uploads/2026/02/The-Gathering-2026Mar7.png
END:VEVENT
BEGIN:VEVENT
DTSTART;TZID=America/New_York:20260308T110000
DTEND;TZID=America/New_York:20260308T140000
DTSTAMP:20260423T185837
CREATED:20260305T232430Z
LAST-MODIFIED:20260305T232711Z
UID:3341-1772967600-1772978400@siriuscommunity.org
SUMMARY:Authentic relating
DESCRIPTION:Join Nathan and Aisha in creating a space of presence and connection through meditation and relational activities. This is a donation-based event. Develop aliveness\, awareness\, and presence in your interactions with others. Practicing authentic relating is a wonderful tool for fostering meaningful connections. We hope to see you there. 
URL:https://siriuscommunity.org/event/authentic-relating/
LOCATION:Massachusetts
ATTACH;FMTTYPE=image/jpeg:https://siriuscommunity.org/wp-content/uploads/2026/03/Authentic-relating.jpeg
END:VEVENT
BEGIN:VEVENT
DTSTART;TZID=America/New_York:20260311T193000
DTEND;TZID=America/New_York:20260311T210000
DTSTAMP:20260423T185837
CREATED:20260226T230355Z
LAST-MODIFIED:20260226T230355Z
UID:3326-1773257400-1773262800@siriuscommunity.org
SUMMARY:Circle Singing
DESCRIPTION:Join us on Wednesday\, March 11th\, from 7:30-9:00 pm to experience and learn circle singing\, hosted and led by Eric Giordano.\n\n\nCircle singing is an improvisational vocal technique to create music together from scratch\, or from some tunes you know and love. You will leave this event knowing how circle singing works\, which we hope can empower everyone to share and create music with others.\n\n\nIf you’ve been looking for a musical event to inspire your creativity while connecting with others\, then this is for you. We are looking forward to seeing you there!\n\n\nPlease contact Eric.giordano@siriuscommunity.org if you have any questions about the event.
URL:https://siriuscommunity.org/event/circle-singing/
LOCATION:Massachusetts
ATTACH;FMTTYPE=image/png:https://siriuscommunity.org/wp-content/uploads/2026/02/Circle-Singing-Flyer-8.png
END:VEVENT
BEGIN:VEVENT
DTSTART;TZID=America/New_York:20260321T160000
DTEND;TZID=America/New_York:20260321T171500
DTSTAMP:20260423T185837
CREATED:20260303T161457Z
LAST-MODIFIED:20260304T002406Z
UID:3330-1774108800-1774113300@siriuscommunity.org
SUMMARY:Equinox Sound Meditation
DESCRIPTION:Join Sarah and Kevin Bell with us as we gather to welcome the arrival of Spring with gongs\, crystal bowls and\nother resonant instruments. Experience this opportunity for rest and renewal. \nSaturday\, March 21st\, 4:00 to 5:15 pm at\nSirius Community Center\, 72 Baker Rd. Shutesbury \nAll are welcome\, suggested donation $20\nIf you would like to lay down\, bring a mat and/or blanket. \nIf you are interested in attending more of Sarah and Kevin’s events\, please check out their website: https://soundsofharmony.net/ \n 
URL:https://siriuscommunity.org/event/equinox-sound-meditation/
LOCATION:Sirius Community Center\, 18 Community Center Drive\, Shutesbury\, MA\, 01072
ATTACH;FMTTYPE=image/png:https://siriuscommunity.org/wp-content/uploads/2026/03/Screenshot-2026-03-03-111413.png
END:VEVENT
BEGIN:VEVENT
DTSTART;TZID=America/New_York:20260404T160000
DTEND;TZID=America/New_York:20260404T230000
DTSTAMP:20260423T185837
CREATED:20260328T161012Z
LAST-MODIFIED:20260328T161012Z
UID:3363-1775318400-1775343600@siriuscommunity.org
SUMMARY:The Gathering at Sirius Community
DESCRIPTION:The Gathering at Sirius – This April 4th!\nJoin us for some\, or all activities below!\nThis month’s gathering will be weekend filled with experiences centering community.\n☀️Saturday Morning:\n9:00am: As a community\, our Saturday morning’s begin together for what we call Joyful Productivity. This is our opportunity to spend time working together on the land with different projects. This usually includes grounds/maintenance work like moving firewood\, gardening\, or some specialized tasks like tree work.\n12:30pm Global healing meditation.\n1:00pm: Vegetarian lunch begins.\nThis portion of the weekend is scheduled weekly\, and guest are always welcome to join and get to know the community.\n✨Saturday Afternoon:\n4:00pm: Sauna is hot! (and onwards)\n4:30pm: RESCUE Crafting! Come and stitch a spirit owl softie! They are decorated with simple embroidery and appliqué\, then sewn together and stuffed. If you would like to bring something to make your spirit owl special\, please do! Children are welcome\, younger ones with an adult. The felt is from The Stash House in Turner’s Falls\, where all the fabric has been rescued.\n🌙Saturday Evening:\n6:30pm: Vegetarian Potluck\n8:00pm: Guided mindful movement\n8:30pm: Ecstatic Dance with music from a special guest- DJ TintedDreams
URL:https://siriuscommunity.org/event/the-gathering-at-sirius-community/
LOCATION:Massachusetts
ATTACH;FMTTYPE=image/png:https://siriuscommunity.org/wp-content/uploads/2026/03/April-5th-Sirius-Dance.png
END:VEVENT
BEGIN:VEVENT
DTSTART;TZID=America/New_York:20260422T073000
DTEND;TZID=America/New_York:20260422T210000
DTSTAMP:20260423T185837
CREATED:20260402T221124Z
LAST-MODIFIED:20260409T202927Z
UID:3366-1776843000-1776891600@siriuscommunity.org
SUMMARY:Circle Singing
DESCRIPTION:Join us on Wednesday\, April 22\, from 7:30-9:00 pm to experience and learn circle singing\, hosted and led by Eric Giordano.\n\n\nCircle singing is an improvisational vocal technique to create music together from scratch. You will leave this event knowing how circle singing works\, which we hope can empower everyone to share and create music with others.\n\n\n\nIf you’ve been looking for a musical event to inspire your creativity while connecting with others\, then this is for you. We are looking forward to seeing you there!\n\n\n\nDon’t hesitate to get in touch with eric.giordano@siriuscommunity.org if you have any questions about the event.
URL:https://siriuscommunity.org/event/circle-singing-2/
LOCATION:Massachusetts
ATTACH;FMTTYPE=image/png:https://siriuscommunity.org/wp-content/uploads/2026/04/Circle-Singing-MonthlyApril9.png
END:VEVENT
BEGIN:VEVENT
DTSTART;VALUE=DATE:20260501
DTEND;VALUE=DATE:20260504
DTSTAMP:20260423T185837
CREATED:20260414T124843Z
LAST-MODIFIED:20260416T192259Z
UID:3399-1777593600-1777852799@siriuscommunity.org
SUMMARY:Community Experience Weekend
DESCRIPTION:Join us for a fully immersive experience that is centered around living in community. \nClick Here for Tickets! \nIf you carry a curiosity about what it would be like to visit one of the longest running eco villages in the whole country\, if you value education\, spirituality\, sustainability\, community\, or if you feel excited about meeting new people and getting a glimpse into what life in community could feel like…..then this is for you. \nGuests are welcome to arrive at 4:00 pm on Friday\, May 1st. One of our guest services team members will show you to your room where you are welcome to unpack and relax\, while the kitchen team is preparing dinner for everyone in our outdoor\, pizza cob oven. \nThere will be lawn games and musical instruments nearby that will be available to enjoy while dinner is being prepared \nAfter dinner we will gather together for a welcome ceremony. During which we will give a brief history of Sirius Community and share what to expect for the rest of our time together\, followed by getting cozy around a bon fire (yes stories and songs are encouraged)  On Saturday morning there will be light breakfast offerings provided at around 8 AM\, followed by what we call\, “Joyful Productivity” that begins at 9:00 AM. Community members\, guests and visitors all circle up for a morning check-in. \nThis is our opportunity to spend time working together on the land with different projects. Whether that’s harvesting vegetables\, enjoying the quiet\, warmth of the green house or joining grounds team to gather\, stack and move fire wood in the forest\, there is always something for everyone. \n  \nSATURDAY \n10:00 AM: Guests are welcome to join a community tour to see all that there is to see. \n12:30 PM: A guided global healing meditation is held in the octagon \n1:00 PM: The community meets in the kitchen to enjoy a 100 % organic vegetarian lunch (The meal is mostly vegan and always includes gluten-free options) \nFeel free to embark on your own adventure in our 90 acre forest\, relax in our hammocks\, or participate in a community communication practice\, “Forum.”  (This gives individuals a chance to take turns authentically expressing themselves while others bare witness and offer insightful reflections) \n3:00pm: Sauna is ready for use and will be available for the rest of the day\, into the night.\n(Don’t forget your towel and water bottle) \n6:30 PM: 100 % organic\, vegetarian dinner will be served. \n8:00 PM: Cacao ceremony \n8:30 PM: The Sirius Ecstatic dance begins\, featuring music from one of our in-house DJ’s. \n  \nSUNDAY \n8:00 AM: Yoga and breath-work workshop \n10:00 AM: Waffle brunch is served \n12:00 PM: Closing ceremony held at the sacred stone circle (This is the time for everyone to share their experiences\, reflections and to ask any questions) \nClick Here for Tickets!
URL:https://siriuscommunity.org/event/community-experience-weekend-2/
LOCATION:Sirius Community Center\, 18 Community Center Drive\, Shutesbury\, MA\, 01072
ATTACH;FMTTYPE=image/jpeg:https://siriuscommunity.org/wp-content/uploads/2026/04/Image_20260415_174052_539.jpeg
END:VEVENT
BEGIN:VEVENT
DTSTART;TZID=America/New_York:20260510T103000
DTEND;TZID=America/New_York:20260510T130000
DTSTAMP:20260423T185837
CREATED:20260414T124933Z
LAST-MODIFIED:20260414T125334Z
UID:3401-1778409000-1778418000@siriuscommunity.org
SUMMARY:Mother's Day Brunch
DESCRIPTION:(Description & flyer are coming soon )
URL:https://siriuscommunity.org/event/mothers-day-brunch/
LOCATION:Sirius Community Center\, 18 Community Center Drive\, Shutesbury\, MA\, 01072
END:VEVENT
BEGIN:VEVENT
DTSTART;TZID=America/New_York:20260613T070000
DTEND;TZID=America/New_York:20260613T210000
DTSTAMP:20260423T185837
CREATED:20260414T125039Z
LAST-MODIFIED:20260414T125315Z
UID:3403-1781334000-1781384400@siriuscommunity.org
SUMMARY:PanHarmony Concert
DESCRIPTION:The handpan is a relatively new musical instrument – compared to most we know. Originally called the “hang” this evocative derivative is both percussive and melodic. Gaining in popularity around the world\, players and listeners alike are enchanted by its unique resonance. The handpan can be heard in yoga classes\, for meditation\, as well as in concert or simply for pure enjoyment by players. A leader in the world of handpan and Rav (a related tongue drum)\, Ricky Hillson is a multi-instrumentalist\, composer and instrument maker who teaches and performs regularly at handpan festivals and concerts. \nrewildyoursoulmusic.com
URL:https://siriuscommunity.org/event/panharmony-concert/
LOCATION:Sirius Community Center\, 18 Community Center Drive\, Shutesbury\, MA\, 01072
ATTACH;FMTTYPE=image/png:https://siriuscommunity.org/wp-content/uploads/2026/04/PanHarmony-Concert-June-13-2026-poster.png
END:VEVENT
END:VCALENDAR