BEGIN:VCALENDAR
VERSION:2.0
PRODID:-//Sirius Community - ECPv6.15.20//NONSGML v1.0//EN
CALSCALE:GREGORIAN
METHOD:PUBLISH
X-WR-CALNAME:Sirius Community
X-ORIGINAL-URL:https://siriuscommunity.org
X-WR-CALDESC:Events for Sirius Community
REFRESH-INTERVAL;VALUE=DURATION:PT1H
X-Robots-Tag:noindex
X-PUBLISHED-TTL:PT1H
BEGIN:VTIMEZONE
TZID:America/New_York
BEGIN:DAYLIGHT
TZOFFSETFROM:-0500
TZOFFSETTO:-0400
TZNAME:EDT
DTSTART:20230312T070000
END:DAYLIGHT
BEGIN:STANDARD
TZOFFSETFROM:-0400
TZOFFSETTO:-0500
TZNAME:EST
DTSTART:20231105T060000
END:STANDARD
BEGIN:DAYLIGHT
TZOFFSETFROM:-0500
TZOFFSETTO:-0400
TZNAME:EDT
DTSTART:20240310T070000
END:DAYLIGHT
BEGIN:STANDARD
TZOFFSETFROM:-0400
TZOFFSETTO:-0500
TZNAME:EST
DTSTART:20241103T060000
END:STANDARD
BEGIN:DAYLIGHT
TZOFFSETFROM:-0500
TZOFFSETTO:-0400
TZNAME:EDT
DTSTART:20250309T070000
END:DAYLIGHT
BEGIN:STANDARD
TZOFFSETFROM:-0400
TZOFFSETTO:-0500
TZNAME:EST
DTSTART:20251102T060000
END:STANDARD
END:VTIMEZONE
BEGIN:VEVENT
DTSTART;TZID=America/New_York:20241109T140000
DTEND;TZID=America/New_York:20241110T220000
DTSTAMP:20260423T190036
CREATED:20241010T134947Z
LAST-MODIFIED:20241010T142828Z
UID:3021-1731160800-1731276000@siriuscommunity.org
SUMMARY:Henasusha's Art Exhibition!
DESCRIPTION:You are welcome to Henasusha’s Art Exhibition! \nTransformative Art Display: \nSaturday\, November 9th 2pm-10pm \nSunday\, November 10th 12pm-6pm \nLocation: 18 Community Center Drive\, Shutesbury\, MA \nExperience the vibrant art of Henasusha\, “Religious Recycler\,” where nature and imagination converge. This two-day exhibition features: \n*Dinner Saturday\, 6:30 PM \n*Celebration 8-10 PM\n*Sunday Lunch 1 PM \nRoom Reservations & Meals contact: guest.services@siriuscommunity.org \nTickets: By Donation \n 
URL:https://siriuscommunity.org/event/henasushas-art-exhibition/
LOCATION:MA
ATTACH;FMTTYPE=image/png:https://siriuscommunity.org/wp-content/uploads/2024/10/2367B91D-5810-4288-BEC3-DBB844A895F4.png
END:VEVENT
BEGIN:VEVENT
DTSTART;TZID=America/New_York:20241103T130000
DTEND;TZID=America/New_York:20241103T153000
DTSTAMP:20260423T190036
CREATED:20231123T014536Z
LAST-MODIFIED:20240916T232920Z
UID:2753-1730638800-1730647800@siriuscommunity.org
SUMMARY:Compassionate Communication Course (Class 1 of 6)
DESCRIPTION:Over six weekly classes\, we’ll learn tools to create more understanding\, connection\, and empathy in charged emotional situations. The course is inspired by Marshall Rosenberg’s Non-violent Communication\, or “NVC”. \nCompassionate communication invites us to explore the underlying needs behind the feelings that come up in charged conflicts. Using an “NVC” approach we’re called to listen with curiosity and empathy to ourselves and to each other as a basis for engaging in challenging conversations head-on. NVC has become a powerful support for our community’s conflict resolution process. It’s not perfect\, or a cure-all\, but it gives us a language of the heart that can foster the connection needed to work through issues. We look forward to connecting with you all and exploring these concepts and practices! \nClick Here to Register \nClick Here for Course Details  \n 
URL:https://siriuscommunity.org/event/compassionate-communication-course/
LOCATION:Sirius Community Center\, 18 Community Center Drive\, Shutesbury\, MA\, 01072
ATTACH;FMTTYPE=image/jpeg:https://siriuscommunity.org/wp-content/uploads/2024/09/99B89760-DC6E-474C-ABC9-3ABEB0CBF87D_1_201_a-1.jpeg
ORGANIZER;CN="Sirius Community":MAILTO:eric.giordano@gmail.com
END:VEVENT
BEGIN:VEVENT
DTSTART;TZID=America/New_York:20241025T090000
DTEND;TZID=America/New_York:20241027T170000
DTSTAMP:20260423T190037
CREATED:20240402T123548Z
LAST-MODIFIED:20240809T183203Z
UID:2822-1729846800-1730048400@siriuscommunity.org
SUMMARY:Acupuncture Workshop with Jack Radner
DESCRIPTION:The mission and vision of this clinic has always been to allow as many people as possible in the community to benefit from good\, thorough\, attentive care with Acupuncture\, Herbal medicine\, Cupping\, and Moxibustion.  
URL:https://siriuscommunity.org/event/acupuncture-workshop-with-jack-radner/
LOCATION:MA
ATTACH;FMTTYPE=image/jpeg:https://siriuscommunity.org/wp-content/uploads/2024/04/acupunture-treatment-needles-1024x681-1.jpg
END:VEVENT
BEGIN:VEVENT
DTSTART;VALUE=DATE:20241004
DTEND;VALUE=DATE:20241007
DTSTAMP:20260423T190037
CREATED:20240921T153154Z
LAST-MODIFIED:20240921T153154Z
UID:3001-1728000000-1728259199@siriuscommunity.org
SUMMARY:The Interconnectedness of All Life: Intro to Insight Dialogue
DESCRIPTION:We often perceive ourselves as separate from the deeply relational universe we live in\, and when we suffer\, our reaction is to increase that separation. The Buddha taught a path to freedom that recognizes the interdependence of all things. By accepting this interdependence\, we learn to see clearly the conditions that give rise to our suffering and the wise path to follow. \nThrough the practice of Insight Dialogue\, we can start this journey by letting go of our attachment to self and others\, and by fully embracing whatever is present in each moment. Join us for a weekend at Sirius\, and intentional community nestled in the woodlands of Shutesbury\, MA.
URL:https://siriuscommunity.org/event/the-interconnectedness-of-all-life-intro-to-insight-dialogue/
LOCATION:MA
ATTACH;FMTTYPE=image/jpeg:https://siriuscommunity.org/wp-content/uploads/2024/09/HOME-Multiple-Buddhas_900x540.jpg
END:VEVENT
BEGIN:VEVENT
DTSTART;TZID=America/New_York:20240930T180000
DTEND;TZID=America/New_York:20240930T200000
DTSTAMP:20260423T190037
CREATED:20240923T220807Z
LAST-MODIFIED:20240925T192534Z
UID:3013-1727719200-1727726400@siriuscommunity.org
SUMMARY:Racial Justice Healing Presentation & Discussion~
DESCRIPTION:We welcome you to share in the experience of lifting up the work of racial justice and healing\, and growing our capacity for multiracial solidarity!\n\nJoining us to share about their work and facilitate a conversation will be members from the Western Mass chapter of Showing Up For Racial Justice (SURJ)\, a national organization that focuses on mobilizing white people for justice work\, particularly around systemic racism\, but also across many intersections of oppression.\n\nMonday\, September 30th\, 6-8pm in the Octagon\nSirius EcoVillage (18 Community Center Drive)\, Shutesbury\, MA\nDonations Welcome\nOur friends Avi and Kaybe will offer their stories of how and why they got involved in WMSURJ\, their solidarity work with the Hassanamisco Band of Nipmuc and other racial justice work. There will be some small-group sharing around moments that have clarified our politics\, activism\, and values in life.\n\nThe intention of this gathering is to help inspire our community to deepen in the ways we are involved in justice work\, both in looking at how systemic oppression can manifest in ourselves and in our community\, as well as how we support one another as we engage with justice and solidarity work in the greater community and beyond.\n\n\nClick Below to learn more about:\nWestern Ma chapter of Showing Up For Racial Justice (SURJ)
URL:https://siriuscommunity.org/event/racial-justice-healing-presentation-discussion/
LOCATION:MA
ATTACH;FMTTYPE=image/jpeg:https://siriuscommunity.org/wp-content/uploads/2024/09/C3C0D8E0-3620-4750-A790-33655E6E72D4_4_5005_c-e1727129366709.jpeg
END:VEVENT
BEGIN:VEVENT
DTSTART;VALUE=DATE:20240926
DTEND;VALUE=DATE:20241001
DTSTAMP:20260423T190037
CREATED:20240809T181800Z
LAST-MODIFIED:20240923T231902Z
UID:2930-1727308800-1727740799@siriuscommunity.org
SUMMARY:Ancient Healing Paths' Free Retreat
DESCRIPTION:Join Ancient Healing Paths for an extended weekend exploring a diverse range of alternative healing modalities. This will be a weekend of sharing skills and healing our minds\, souls\, and bodies in community. \nThere is no financial cost to attend. Learn how to value and find value in exchanges other than cash. Let your gift be your exchange\, your love is your currency.  \n  \nSign Up Here! \n  \n 
URL:https://siriuscommunity.org/event/ancient-healing-paths-free-retreat/
LOCATION:MA
ATTACH;FMTTYPE=image/webp:https://siriuscommunity.org/wp-content/uploads/2024/08/AHP-logo.webp
END:VEVENT
BEGIN:VEVENT
DTSTART;TZID=America/New_York:20240921T090000
DTEND;TZID=America/New_York:20240921T230000
DTSTAMP:20260423T190037
CREATED:20240918T161605Z
LAST-MODIFIED:20240918T164753Z
UID:2979-1726909200-1726959600@siriuscommunity.org
SUMMARY:EcoVillage Immersion Day
DESCRIPTION:Join the Sirius Community THIS SATURDAY 9/21 for our new EcoVillage Immersion Day! \n\n________________________________________________________________________________________________________________________________________________________________\n\nSchedule and pricing are as follows: \n\n9am-12:30: Joyful Productivity (“JP”) Community Service (Optional Work-trade and opportunity to meet the members of Sirius Community in collaboration on tending our land and infrastructure. Reduced rate of $15-35 for the whole day of events) \n12:30-1pm: Planetary Healing Meditation (A Sirius and Findhorn Community tradition of sending positive energy to those in need of support. Led by our founder\, Linda Reimer) \n1-2:30pm: Lunch with the Sirius Community ($10-30) \n3-4pm: Regenerative Social Forestry Walk (A deep dive into the ecology of our young ridge-top mixed forest ecosystem\, including the symbiotic human community within and around it. A guided\, meditative journey into communion with the flora\, fauna\, fungi\, and other friends who want to feel even more at home with each other. Facilitated by Teddy Wilder and River Stone; $10-30) \n4-6:30pm: Sauna w/ Cold Immersion (Join us in our hand-built\, wood-fired sauna\, and embrace the cold\, if you dare! $10-30) \n6:30-8pm: Hearthstone Village Dinner ($10-30 or bring a Potluck Dish) \n8:30-10:30pm: Musical Movement (A sacred exploration of our bodies and emotions through conscious movement and music. Facilitated by Fay Timothy; $10-30) \n\n____________________________________________________________________________________________________________________________\nThis event is operating on a sliding-scale basis\, encouraging the growth of a regenerative economic system that distributes wealth for the benefit of the whole. This means that we encourage you to choose your payment tier with consideration of your total financial capacity\, and the knowledge that investment in socially and ecologically beneficial practices is necessary for the thriving of us all.\nRSVP with this Google Form: https://forms.gle/XGu7nrZBRgR8EdFv7 and pre-pay for your event selections with Venmo account.venmo.com/u/Timothy-Fay-7 or Paypal / Pay with Card at siriuscommunity.org/donate/ \nOvernight stays on Friday and Saturday night are available for reservation by email to guest.services@siriuscommunity.org: $30/night for a tenting spot\, $70-99/night for a bed. \nParking at 72 Baker Road\, Shutesbury MA 01072
URL:https://siriuscommunity.org/event/ecovillage-immersion-day/
LOCATION:MA
ATTACH;FMTTYPE=image/png:https://siriuscommunity.org/wp-content/uploads/2024/09/Sirius-Community-Village-Immersion-Day.png
END:VEVENT
BEGIN:VEVENT
DTSTART;VALUE=DATE:20240830
DTEND;VALUE=DATE:20240902
DTSTAMP:20260423T190037
CREATED:20240809T180746Z
LAST-MODIFIED:20240810T145542Z
UID:2923-1724976000-1725235199@siriuscommunity.org
SUMMARY:Spirit of the Heart (private event)
DESCRIPTION:Welcome to Spirit of the Heart!\n\n\n\nOur mission is to inspire personal transformation through martial arts\, fitness and self-defense training in a compassionate environment.\nWe teach Indonesian Silat Martial Arts and STRONG™ Self-Defense. We help to empower people to be healthy\, strong and awesome!\n\n\nFounded over 25 years ago by head instructor Nancy Rothenberg\, Spirit of the Heart offers a non-competitive environment for both adults and children to expand on their fitness and their mental and physical wellness. Silat or Indonesian Kung Fu\, is a very raw martial art offering a straight to the point approach. Founded on the four principles of tiger\, monkey\, crane\, and snake\, the style encourages students to push both their bodies and their minds to the limit.
URL:https://siriuscommunity.org/event/spirit-of-the-heart-private-event/
LOCATION:MA
ATTACH;FMTTYPE=image/jpeg:https://siriuscommunity.org/wp-content/uploads/2024/08/SpiritoftheHeart-e1723301735999.jpg
END:VEVENT
BEGIN:VEVENT
DTSTART;VALUE=DATE:20240823
DTEND;VALUE=DATE:20240829
DTSTAMP:20260423T190037
CREATED:20240809T180041Z
LAST-MODIFIED:20240809T182746Z
UID:2919-1724371200-1724889599@siriuscommunity.org
SUMMARY:Woman Soul (Private Event)
DESCRIPTION:Woman Soul is a healing retreat for women. It is a community where the mystical is honored\, evoked\, and celebrated in new ways and with a down-to-earth style for over 35 years. \n  \nThis is a private event. Registration is closed.
URL:https://siriuscommunity.org/event/woman-soul-private-event/
LOCATION:MA
ATTACH;FMTTYPE=image/jpeg:https://siriuscommunity.org/wp-content/uploads/2024/08/Woman-Soul-1.jpg
END:VEVENT
BEGIN:VEVENT
DTSTART;VALUE=DATE:20240628
DTEND;VALUE=DATE:20240701
DTSTAMP:20260423T190037
CREATED:20240511T154238Z
LAST-MODIFIED:20240616T182357Z
UID:2851-1719532800-1719791999@siriuscommunity.org
SUMMARY:June Community Experience Weekend
DESCRIPTION:Have you wondered what life is like in an eco-village or intentional community?\nWould you like to learn more about living in partnership with the Earth and all beings? \nThe Sirius Community is a on-going experiment of living in community with each other and the Earth.\nThe Community Experience Weekend is an invitation to come learn with us\, work with us\, and grow with us! \nSCHEDULE OF EVENTS: \nFriday Evening\, June 28\n6:30 pm  Vegetarian Dinner\n7:30 pm  Welcome Circle: Introduction to the Sirius Community \nSaturday\, June 29\n8 – 9 am   Vegetarian Breakfast\n9 am   Joyful Productivity: Meet and Work with Community Members\n11 am   Tour of the Sirius Community\n12:30 pm   Global Healing Meditation   (Linda Reimer)\n1 pm   Vegetarian Lunch\n2 pm   Rest\, Restore or Explore\n3 – 4:30 pm  Tree Identification Workshop (Eric Giordano)\n4:30 – 6 pm   Compassionate Communication with NVC (Dani Angel\, Madison Healey)\n6:30 pm   Vegetarian Dinner\n7:30-9:30pm   Fire and Music Circle \nSunday Morning\, June 30\n8 – 9 am   Vegetarian Breakfast\n9:15 – 10:45 am   Introduction to Permaculture Design (Llani Davidson)\n11 – 12pm Stretching and Movement Class (Michelle Martin)\n12pm-1pm   Community Question and Answer Session and Farewell  (Adam Bellar) \nTicket Price\n**Ticket prices below do not include lodging.\nPlease see below to reserve your room separately from the Ticket Price.\nPlease let us know if you have any food allergies.** \nThe Complete Community Experience\, including all workshops:\n \nTicket Price: $125\nClick Here \nTicket Price (Including Meals): $175\nClick Here \nReserve Your Room \n** If you plan to stay overnight\, please reserve your room by contacting us at guest.services@siriuscommunity.org  \nRemember to let us know if you have any food allergies if you’ll be attending meals! \nA private room with a queen bed is $99 a night.\nA shared room is $71 for a twin bed a night per person.\nThere are tent platforms available for $30 a night. (Tent not included.)\n \nAll meals are $10 each — a great price for a delicious\, nutritious\, organic\, vegetarian meal!
URL:https://siriuscommunity.org/event/community-experience-weekend/
LOCATION:MA
ATTACH;FMTTYPE=image/jpeg:https://siriuscommunity.org/wp-content/uploads/2024/05/PXL_20230324_235238397.MP_-1-scaled-e1717794842411.jpg
END:VEVENT
BEGIN:VEVENT
DTSTART;TZID=America/New_York:20240608T190000
DTEND;TZID=America/New_York:20240608T223000
DTSTAMP:20260423T190037
CREATED:20240511T153740Z
LAST-MODIFIED:20240511T153740Z
UID:2845-1717873200-1717885800@siriuscommunity.org
SUMMARY:Mandala Dance
DESCRIPTION:Mandala Dance is here to celebrate life and all that comes along in the circle of community. Live musicians\, co-created mandala art prayer\, free-form movement\, and loving connections.
URL:https://siriuscommunity.org/event/mandala-dance/
LOCATION:MA
ATTACH;FMTTYPE=image/jpeg:https://siriuscommunity.org/wp-content/uploads/2024/05/440970764_10233601352564004_1222400245117781696_n.jpg
END:VEVENT
BEGIN:VEVENT
DTSTART;VALUE=DATE:20240525
DTEND;VALUE=DATE:20240526
DTSTAMP:20260423T190037
CREATED:20240511T153347Z
LAST-MODIFIED:20240514T161158Z
UID:2842-1716595200-1716681599@siriuscommunity.org
SUMMARY:Music is Healing Festival
DESCRIPTION:Come join us for a day of celebrating music and healing. The Music is Healing Festival is a fundraiser to help support the important work of the nonprofit Ancient Healing Paths. AHP works to help people live in health\, wellness\, and abundance. The Music is Healing Festival is a day long celebration of music and healing with regional musical artists from around New England. Come out and experience a healing session in our healing village where people can experience acupuncture\, massage therapy\, somatic hypnotherapy\, reiki\, sound healing\, herbal medicine consultations\, card readings\, spiritual coaching and more. Explore our art stations where you can watch live painting\, create your own art to take home\, or participate in a group art project. Visit our vendor area where you can buy gifts and art pieces. Maybe participate in a workshop or a group yoga session. Enjoy our line up of local musicians who will heal you with their uplifiting music and spiritual lyrics.
URL:https://siriuscommunity.org/event/music-is-healing-festival/
LOCATION:MA
ATTACH;FMTTYPE=image/jpeg:https://siriuscommunity.org/wp-content/uploads/2024/05/https___cdn.evbuc_.com_images_751705109_1360915425673_1_original-e1715703110263.jpg
ORGANIZER;CN="Sirius Community":MAILTO:eric.giordano@gmail.com
END:VEVENT
BEGIN:VEVENT
DTSTART;TZID=America/New_York:20240416T193000
DTEND;TZID=America/New_York:20240416T220000
DTSTAMP:20260423T190037
CREATED:20240414T175723Z
LAST-MODIFIED:20240414T180039Z
UID:2829-1713295800-1713304800@siriuscommunity.org
SUMMARY:Constellation Workshop Series: Co-creating with Nature
DESCRIPTION:This is a Constellation Workshop Series: Co-creating with Nature
URL:https://siriuscommunity.org/event/constellation-workshop-series-co-creating-with-nature/
LOCATION:Sirius Community Center\, 18 Community Center Drive\, Shutesbury\, MA\, 01072
ATTACH;FMTTYPE=image/png:https://siriuscommunity.org/wp-content/uploads/2023/03/CEW-Flyer-2-e1677972189205.png
ORGANIZER;CN="Sirius Community":MAILTO:eric.giordano@gmail.com
END:VEVENT
END:VCALENDAR