BEGIN:VCALENDAR
VERSION:2.0
PRODID:-//Sirius Community - ECPv6.15.20//NONSGML v1.0//EN
CALSCALE:GREGORIAN
METHOD:PUBLISH
X-ORIGINAL-URL:https://siriuscommunity.org
X-WR-CALDESC:Events for Sirius Community
REFRESH-INTERVAL;VALUE=DURATION:PT1H
X-Robots-Tag:noindex
X-PUBLISHED-TTL:PT1H
BEGIN:VTIMEZONE
TZID:America/New_York
BEGIN:DAYLIGHT
TZOFFSETFROM:-0500
TZOFFSETTO:-0400
TZNAME:EDT
DTSTART:20240310T070000
END:DAYLIGHT
BEGIN:STANDARD
TZOFFSETFROM:-0400
TZOFFSETTO:-0500
TZNAME:EST
DTSTART:20241103T060000
END:STANDARD
BEGIN:DAYLIGHT
TZOFFSETFROM:-0500
TZOFFSETTO:-0400
TZNAME:EDT
DTSTART:20250309T070000
END:DAYLIGHT
BEGIN:STANDARD
TZOFFSETFROM:-0400
TZOFFSETTO:-0500
TZNAME:EST
DTSTART:20251102T060000
END:STANDARD
BEGIN:DAYLIGHT
TZOFFSETFROM:-0500
TZOFFSETTO:-0400
TZNAME:EDT
DTSTART:20260308T070000
END:DAYLIGHT
BEGIN:STANDARD
TZOFFSETFROM:-0400
TZOFFSETTO:-0500
TZNAME:EST
DTSTART:20261101T060000
END:STANDARD
END:VTIMEZONE
BEGIN:VEVENT
DTSTART;TZID=America/New_York:20250805T170000
DTEND;TZID=America/New_York:20250810T120000
DTSTAMP:20260423T203053
CREATED:20250709T190219Z
LAST-MODIFIED:20250724T162257Z
UID:3156-1754413200-1754827200@siriuscommunity.org
SUMMARY:Silent Ground\, Speaking Heart: A Zen and Relational Meditation Retreat for Young Adults (18-35)
DESCRIPTION:Led by Sofia-Jeanne Caring and Patrick Kennyō Dunn \nThis retreat is an invitation into two complementary forms of spiritual inquiry: silent meditation and interactive relational practice. Each of these practices reveals different dimensions of awareness\, presence\, and truth. In stillness\, we encounter ourselves beyond words; in dialogue\, we discover ourselves in the mirror of another. Held together\, these practices form a powerful combination that helps loosen our stuck patterns and open the heart of compassion. \nTrue transformation requires the courage to meet ourselves exactly as we are— in both comfort and challenge. Both practices (meditation + circling) invite us to bravely step beyond familiar patterns\, to sit with discomfort rather than turn away\, and to remain present even when vulnerability arises. When we willingly walk to our own edges\, our capacity for presence expands in ways we couldn’t have imagined. \nOur days will weave between seated meditation and relational meditation\, a practice of authentic\, present-moment interaction and dialogue. In meditation\, we return to the breath\, the body\, and the bare experience of being. In circling\, we open to the immediacy of connection\, curiosity\, and relationship. Both practices are rooted in presence and inquiry. Rather than compartmentalizing the two\, we’ll explore how they can enrich\, complement and inform each other! \nThis retreat is for those drawn to explore reality not just on their own cushion\, but also in the living field of human connection. Together we’ll create a field of sincerity\, reverence\, and play. \n 
URL:https://siriuscommunity.org/event/silent-ground-speaking-heart-a-zen-and-relational-meditation-retreat-for-young-adults-18-35/
LOCATION:Sirius Community Center\, 18 Community Center Drive\, Shutesbury\, MA\, 01072
ATTACH;FMTTYPE=image/png:https://siriuscommunity.org/wp-content/uploads/2025/07/SJKennyoIG-1.png
END:VEVENT
BEGIN:VEVENT
DTSTART;TZID=America/New_York:20250815T170000
DTEND;TZID=America/New_York:20250819T120000
DTSTAMP:20260423T203053
CREATED:20250709T191224Z
LAST-MODIFIED:20250709T191224Z
UID:3167-1755277200-1755604800@siriuscommunity.org
SUMMARY:Woman Soul
DESCRIPTION:Woman Soul is a healing retreat for women. It is a community where the mystical is honored\, evoked\, and celebrated in new ways and with a down-to-earth style for over 35 years. \nThis is a private event. Registration is closed.
URL:https://siriuscommunity.org/event/woman-soul/
LOCATION:Sirius Community Center\, 18 Community Center Drive\, Shutesbury\, MA\, 01072
ATTACH;FMTTYPE=image/jpeg:https://siriuscommunity.org/wp-content/uploads/2024/05/440970764_10233601352564004_1222400245117781696_n.jpg
END:VEVENT
BEGIN:VEVENT
DTSTART;TZID=America/New_York:20250821T070000
DTEND;TZID=America/New_York:20250824T173000
DTSTAMP:20260423T203053
CREATED:20250709T200153Z
LAST-MODIFIED:20250709T200153Z
UID:3170-1755759600-1756056600@siriuscommunity.org
SUMMARY:YMAA North America Camp
DESCRIPTION:3rd YMAA camp in North America!\n\n\n\n\nJoin us once again for the highly anticipated YMAA North America Camp — now at an exciting new location! This year\, we’re gathering in the peaceful woodlands of western Massachusetts\, offering an inspiring natural setting to focus and reconnect. \nWhether you’re a returning student or new to the experience\, come train alongside fellow martial arts enthusiasts from around the world. As always\, all international participants are warmly welcome!
URL:https://siriuscommunity.org/event/ymaa-north-america-camp/
LOCATION:72 Baker Road Shutesbury\, MA 01072\, MA\, United States
ATTACH;FMTTYPE=image/png:https://siriuscommunity.org/wp-content/uploads/2025/07/2025-YMAA-N.-America-Camp-banner-1024x576-1.png
END:VEVENT
BEGIN:VEVENT
DTSTART;TZID=America/New_York:20250829T150000
DTEND;TZID=America/New_York:20250831T150000
DTSTAMP:20260423T203053
CREATED:20250710T135955Z
LAST-MODIFIED:20250710T135955Z
UID:3177-1756479600-1756652400@siriuscommunity.org
SUMMARY:Spirit of the Heart (Private Event)
DESCRIPTION:Join us for an Intensive Weekend of Silat and Fun. This retreat offers an in-depth study of Indonesian Silat in the beautiful setting of Sirius Community \, in Shutesbury\, Massachusetts. Sirius Community is a non-profit educational center and spiritual community that aims to live by principles of spiritual attunement\, community\, and sustainable living. We host educational retreats and events in alignment with these values. We share comfortable rooms and delicious meals. We have time to dive deeper into our training and often invite instructors from other styles so we can all try new things. It is a wonderful way to end the summer. We hope you can join us!
URL:https://siriuscommunity.org/event/spirit-of-the-heart-private-event-2/
LOCATION:Sirius Community Center\, 18 Community Center Drive\, Shutesbury\, MA\, 01072
ATTACH;FMTTYPE=image/jpeg:https://siriuscommunity.org/wp-content/uploads/2024/08/SpiritoftheHeart-e1723301735999.jpg
END:VEVENT
END:VCALENDAR