BEGIN:VCALENDAR
VERSION:2.0
PRODID:-//Sirius Community - ECPv6.15.20//NONSGML v1.0//EN
CALSCALE:GREGORIAN
METHOD:PUBLISH
X-WR-CALNAME:Sirius Community
X-ORIGINAL-URL:https://siriuscommunity.org
X-WR-CALDESC:Events for Sirius Community
REFRESH-INTERVAL;VALUE=DURATION:PT1H
X-Robots-Tag:noindex
X-PUBLISHED-TTL:PT1H
BEGIN:VTIMEZONE
TZID:America/New_York
BEGIN:DAYLIGHT
TZOFFSETFROM:-0500
TZOFFSETTO:-0400
TZNAME:EDT
DTSTART:20240310T070000
END:DAYLIGHT
BEGIN:STANDARD
TZOFFSETFROM:-0400
TZOFFSETTO:-0500
TZNAME:EST
DTSTART:20241103T060000
END:STANDARD
BEGIN:DAYLIGHT
TZOFFSETFROM:-0500
TZOFFSETTO:-0400
TZNAME:EDT
DTSTART:20250309T070000
END:DAYLIGHT
BEGIN:STANDARD
TZOFFSETFROM:-0400
TZOFFSETTO:-0500
TZNAME:EST
DTSTART:20251102T060000
END:STANDARD
BEGIN:DAYLIGHT
TZOFFSETFROM:-0500
TZOFFSETTO:-0400
TZNAME:EDT
DTSTART:20260308T070000
END:DAYLIGHT
BEGIN:STANDARD
TZOFFSETFROM:-0400
TZOFFSETTO:-0500
TZNAME:EST
DTSTART:20261101T060000
END:STANDARD
END:VTIMEZONE
BEGIN:VEVENT
DTSTART;TZID=America/New_York:20251004T170000
DTEND;TZID=America/New_York:20251004T230000
DTSTAMP:20260423T174041
CREATED:20250925T222620Z
LAST-MODIFIED:20250925T222620Z
UID:3221-1759597200-1759618800@siriuscommunity.org
SUMMARY:The gathering at Sirius
DESCRIPTION:Join us to celebrate 47 years of Sirius! \nOn October 4th we will gather to eat\, connect\, and dance. Bring a vegetarian dish to share\, dinner will start at 6. \nAt 8pm our dear resident Ko will host an authentic relating circle.\nThen\, at 9 an Ecstatic Dance with Dom will begin!\nThe sauna will be lit by 5 and will go until 11.\nThe suggested donation is $20\, no one turned away for lack of funds.\nAddress is 72 Baker Rd\, Shutesbury.
URL:https://siriuscommunity.org/event/the-gathering-at-sirius/
LOCATION:Massachusetts
ATTACH;FMTTYPE=image/jpeg:https://siriuscommunity.org/wp-content/uploads/2025/09/TheGatheringATSirius.jpg
END:VEVENT
BEGIN:VEVENT
DTSTART;TZID=America/New_York:20251010T100000
DTEND;TZID=America/New_York:20251012T160000
DTSTAMP:20260423T174041
CREATED:20250710T142320Z
LAST-MODIFIED:20250710T142320Z
UID:3182-1760090400-1760284800@siriuscommunity.org
SUMMARY:5 Elements Immersion: Where Wilderness Survival & Ancient Medicine Meet
DESCRIPTION:Learn Ayurvedic & Chinese 5 Elements Medicine systems through living them\, hands-on and in nature. Gain essential skills for self-reliance and wilderness survival. Join Jonathan Glass ND with wilderness guides Joshua Glass and Melina Feuvrier-Etevenard. \n  \nAbout the Event\n\n\n\nReconnect to nature’s power.\n \nCome get grounded\, reconnect with the Earth\, and awaken your ancient instincts. Over 3 powerful days\, you’ll dive into earth-based living\, explore the Five Elements through Ayurvedic and Traditional Chinese Medicine\, and learn hands-on wilderness skills that nourish the body\, mind\, and spirit \n \nLet’s pause the scrolling\, put down the tech\, and tune back in—to nature\, community\, and your deeper self. \n\n \nWho is This For?\n \n✨ Nature-lovers\, Adventurers and Seekers looking for a fresh relationship with nature and to gain real skills \n \n✨ Healers\, Educators\, and Parents ready to embody Five Element medicine at a deeper level \n \n✨ Humans needing to unplug\, reset\, and return to what’s real \n \n \nWhat You’ll Learn\n \n🔥 Fire Making & Shelter Building – Make fire with stone and wood\, build primitive shelter to keep you warm and dry  \n \n🌱 Foraging Wild Food & Medicine – Identify and prepare edible and medicinal plants \n \n🧭 Natural Navigation – Find your way using natural signs\, not screens or maps \n \n🍲 Ayurvedic Cooking – Balance your dosha with ancient dietary wisdom. Learn primitive cooking techniques \n \n🌀 System of 5 Element Medicine – Know the elements through a well-designed balance of theory and experience \n \nWe’ll weave in Five Element wisdom from both Ayurveda and TCM\, helping you make real-world connections between nature and your own inner ecosystem. \n \n \nWhat You’ll Experience\n \n🔹 One-on-One Elemental Consultation with Jonathan Glass\, ND\, MAc \n \n🔹 Wildcrafted Organic Meals – prepared with local\, garden fresh\, and foraged ingredients for breakfast\, lunch and dinner \n \n🔹  Cozy Rooms or Forest Camping – your choice: private or shared rooms\, or tenting in the autumn woods \n \n🔹 Evenings in Circle – storytelling\, reflection\, song and real connection \n \n🔹 Hands-On Skills – create directly from the Earth with nothing but your hands \n \n🔹 Living in Community – share daily life with like-minded people
URL:https://siriuscommunity.org/event/5-elements-immersion-where-wilderness-survival-ancient-medicine-meet/
LOCATION:72 Baker Road Shutesbury\, MA 01072\, MA\, United States
ATTACH;FMTTYPE=image/png:https://siriuscommunity.org/wp-content/uploads/2025/07/most-current-5-element.png
ORGANIZER;CN="Joshua Glass":MAILTO:joshua.emerson.glass@proton.me
END:VEVENT
BEGIN:VEVENT
DTSTART;TZID=America/New_York:20251015T190000
DTEND;TZID=America/New_York:20251015T210000
DTSTAMP:20260423T174041
CREATED:20251006T123552Z
LAST-MODIFIED:20251006T123552Z
UID:3226-1760554800-1760562000@siriuscommunity.org
SUMMARY:Circle Dance
DESCRIPTION:Wednesday October 15\, 2025 \nfrom 7 – 9 pm \nDear friends\, Pablo Scornik and Sergio Malqui\, amazing Circle Dance teachers from Argentina are leading at Sirius Ecovillage! \nWe love the diversity and combination of styles and  \nstates of consciousness that Circle Dance brings! \nAll dances are taught and beginners are welcome. \nTo get Peace and Healing over the earth\, we need to open ourselves to our own Peace and Healing … and dancing is such a great way to do it. \nWhen: Wednesday\, October 15\, 2025\, 7 – 9 pm \nWhere: Sirius Ecovillage \n72 Baker Road\, Shutesbury\, MA 01072 \nhttps://siriuscommunity.org \nCost: Voluntary Donation 10 – 25 dollars. (Sirius members and apprentices come for free. Scholarships are available for others who may need it.)   \nTo dance on the gorgeous Octagon floor\,  \nplease bring clean indoor dancing shoes or bare feet. \nPablo was born in La Plata\, Buenos Aires Province\, Argentina in 1965. He got his medical professional degree from the National University of La Plata in 1990.  \nLooking for a path between medicine and traditional dance spirit\, he found Circle Dance in 1992 and has since danced and taught all over the world\, bringing his beauty and expertise to a wide variety of places. \nSergio is from Santa Fe\, Argentina\, and has a background in folk dance. For him\, finding Circle Dance was the beginning of an odyssey of becoming aware of himself and his mission. He continues to bring his beauty and spirit to many\, expanding this wonderful practice as a tool to find the way back home. \nThis special event is an introductory session to these wonderful teachers who are also leading a special workshop at Neskaya in Franconia\, New Hampshire.  \n(There may be some spaces still available in the weekend event if it calls you)  \nNeskaya \nSee you soon! Please share this invitation with your friends. \nAutumn Blessings\, Love\, Gwyn Peterdi \nMore about Pablo \nMore about Sergio \nMore Information:  \nworldcircledance@gmail.com \n World Circle Dance \n+1 413 427 9841
URL:https://siriuscommunity.org/event/circle-dance/
LOCATION:72 Baker Road Shutesbury\, MA 01072\, MA\, United States
ATTACH;FMTTYPE=image/jpeg:https://siriuscommunity.org/wp-content/uploads/2025/10/Circle-Dance-Oct15-2.jpg
END:VEVENT
END:VCALENDAR