BEGIN:VCALENDAR
VERSION:2.0
PRODID:-//Sirius Community - ECPv6.15.20//NONSGML v1.0//EN
CALSCALE:GREGORIAN
METHOD:PUBLISH
X-WR-CALNAME:Sirius Community
X-ORIGINAL-URL:https://siriuscommunity.org
X-WR-CALDESC:Events for Sirius Community
REFRESH-INTERVAL;VALUE=DURATION:PT1H
X-Robots-Tag:noindex
X-PUBLISHED-TTL:PT1H
BEGIN:VTIMEZONE
TZID:America/New_York
BEGIN:DAYLIGHT
TZOFFSETFROM:-0500
TZOFFSETTO:-0400
TZNAME:EDT
DTSTART:20250309T070000
END:DAYLIGHT
BEGIN:STANDARD
TZOFFSETFROM:-0400
TZOFFSETTO:-0500
TZNAME:EST
DTSTART:20251102T060000
END:STANDARD
BEGIN:DAYLIGHT
TZOFFSETFROM:-0500
TZOFFSETTO:-0400
TZNAME:EDT
DTSTART:20260308T070000
END:DAYLIGHT
BEGIN:STANDARD
TZOFFSETFROM:-0400
TZOFFSETTO:-0500
TZNAME:EST
DTSTART:20261101T060000
END:STANDARD
BEGIN:DAYLIGHT
TZOFFSETFROM:-0500
TZOFFSETTO:-0400
TZNAME:EDT
DTSTART:20270314T070000
END:DAYLIGHT
BEGIN:STANDARD
TZOFFSETFROM:-0400
TZOFFSETTO:-0500
TZNAME:EST
DTSTART:20271107T060000
END:STANDARD
END:VTIMEZONE
BEGIN:VEVENT
DTSTART;TZID=America/New_York:20260103T050000
DTEND;TZID=America/New_York:20260103T233000
DTSTAMP:20260423T132655
CREATED:20251204T231733Z
LAST-MODIFIED:20251204T231733Z
UID:3289-1767416400-1767483000@siriuscommunity.org
SUMMARY:A sacred community celebration
DESCRIPTION:First Saturday – A sacred community celebrationSirius Ecovillage (72 Baker Rd\, Shutesbury\, MA)Saturday\, January 3rd | 5:00pm – 11:30pm (drop in anytime!)Join us at Sirius Ecovillage for full-body activation with our wood-fired sauna\, deep connection over a shared potluck dinner and ceremonial Cacao\, and healing movement through Live music and Soul Dance!What We’ll Be Exploring Together:5:00pm (and onward) – Sauna – Enjoy our famous wood-fired sauna throughout the evening (Clothing optional\, please bring your own towel!) 6:00pm – Community Potluck Dinner – Bring a healthy vegetarian dish to share (or contribute an extra $10 for a nourishing meal). Organic and local food is encouraged8:00pm – Cacao and Music Ceremony with Jason Cohen & Imani Elijah. Circle Up\, Find our Presence\, Open our Hearts\, and Sing & Dance Together with our delicious ethically-sourced ceremonial cacao\, brewed by Anton10:00pm – Soul flow and sound healing by DJ Dom$20-30 for the whole event. (Pay what you can – no one turned away for lack of funds). Clothing Swap – Bring clean\, gently used clothes to share\, and take home something you love!Venmo @Anton-Pavlov-1https://venmo.com/code?user_id=2083715169648640006…Creating a Safe & Supportive SpaceWe are committed to creating a safe\, welcoming space for dance and connection. Respect\, clear communication\, and mutual care are at the heart of our community.We’ll open our spaces with guidelines for requests\, responses\, and honoring boundaries. Our Emotional Support Team is here if you need anything.Let’s co-create a space where everyone feels honored\, respected\, and free to express themselves. We value your feedback and are always open to ideas and suggestions!We look forward to sharing this beautiful evening with you!—Join us the next day for:Hatha Yoga with Valico at 8:00amWaffle Brunch and Coffee at 9:30amCommunity tour at 11:00amRustic Ecovillage rooms are available for your stay:$71/night (Twin bed)$99/night (Queen bed)guest.services@siriuscommunity.org  \nSee less
URL:https://siriuscommunity.org/event/a-sacred-community-celebration/
LOCATION:Massachusetts
ATTACH;FMTTYPE=image/jpeg:https://siriuscommunity.org/wp-content/uploads/2025/12/A-sacred-community-celebration.jpg
END:VEVENT
BEGIN:VEVENT
DTSTART;TZID=America/New_York:20260131T180000
DTEND;TZID=America/New_York:20260131T230000
DTSTAMP:20260423T132655
CREATED:20260122T224636Z
LAST-MODIFIED:20260128T003007Z
UID:3303-1769882400-1769900400@siriuscommunity.org
SUMMARY:The Gathering at Sirius Community - January
DESCRIPTION:The Gathering at Sirius Community \n\nUpcoming event at an ecovillage near you! Come to Sirius Community on January 31st for an ecstatic dance.\nOur evening together will begin at 6:30pm with a potluck in the community center.\nOnce our bellies are full and the potluck is complete\, we will be guided by Eric\, a resident of Sirius\, on a circle singing journey. We will learn some beloved circle songs and how circling while singing works. You can incorporate this practice within songs you love.\nAfter spending time singing\, we will open up the dance floor with music curated by another Sirius resident\, DJ Dom.\nThroughout the night\, folks are welcome to use the wood-fired sauna next to the community center.\nAccommodations are available if you choose to stay the night here in the forest of Shutesbury. The next morning\, after the full moon\, we can begin February together with a yoga flow\, followed by a waffle brunch.\nYou won’t want to miss the first Gathering of the year\, and we are so excited to see you! 
URL:https://siriuscommunity.org/event/the-gathering-at-sirius-community-january/
LOCATION:Massachusetts
ATTACH;FMTTYPE=application/pdf:https://siriuscommunity.org/wp-content/uploads/2026/01/January-Sirius-Dance.pdf
END:VEVENT
END:VCALENDAR